Workbook

Sheet 願書1枚目_Application.p1
A1: 関東日本語アカデミー Kanto Japanese Academy | I1: エントリーナンバー/Entry No. *KJA記入欄 | K1: 写真/Photo (3cm×4cm) ①背景無地 /plain background ②顔正面全体を写す/your whole face must be shown
M2: 2 year course
E3: 入学願書 | M3: 1.5 year course
C5: APPLICATION FORM FOR ADMISSION | M5: Male
M6: Female
A8: 1.国籍 Nationality | E8: 2. 生年月日 Date of Birth | H8: 年 Year | J8: 月 Month | L8: 日 Date
A9: 3.ローマ字氏名 Name(s) as shown on your passport | D9: Family Name Middle name Given Name | K9: 漢字 ChineseCharacter | M9: Married
D10: カタカナ | M10: Single
D11: English
A12: 4.性別 Sex | C12: 男Male 女Female | D12: 5.出生地 Place of birth | H12: 6.配偶者の有無 Marital status | K12: 有 Married 無 Single
A13: 7.職業 occupation | G13: 携帯電話番号 mobile phone | I13: +
A14: 8. 現住所 Current address | M14: 本人（Self）
M15: 父 (Father)
A16: 9.旅券番号/有効期限 Passport No / Date of Expiry | D16: 旅券番号 Passport No. | G16: 有効期限 Date of Expiry | I16: 年Year | K16: 月Month | L16: 日Date | M16: 母 (Mother)
M17: 夫 (Husband)
A18: 10.学歴： （初等教育(小学校)から順次最終学歴まで） Education records (from primary school to last school ) | M18: 妻 (Wife)
M19: 息子 (Son)
A20: 学校名 Name of the school | D20: 所在地 Address | H20: 修学期間 Period of study | L20: 年 （Years) | M20: 娘 (Daughter)
H21: 入学年月日 | J21: 卒業年月日 | M21: 兄 (Older brother)
H22: Date of admission | J22: Date of graduation | M22: 弟 (Younger brother)
M23: 姉 (Older sister)
M24: 妹 (Younger sister)
M25: 伯(叔)父 (Uncle)
M26: 伯(叔)母 (Aunt)
M27: 孫息子 (Grandson)
M28: 孫娘 (Granddaughter)
M29: 祖父 (Grandfather)
M30: 祖母 (Grandmother)
M31: 夫の父 (Father-in-law)
M32: 夫の母 (Mother-in-law)
M35: 学生 student
M36: 会社員 Company employee
A37: 就学年数（小学校～最終学歴）留学年数を含まないでください。Total period of education (from elementary school to last institution of education.) Don't include ANY GAP YEAR. | L37: 年 （Years) | M37: 無職 Unemployed
M38: 留学準備中 Preparing
M39: その他 Other
A40: 11.日本語学習歴Organization and period to have received Japanese language education
A41: 機関名 Organization | D41: 所在地 Address | H41: 期間Period | L41: 時間数 （Hours)
H42: 入学年月日 | J42: 卒業年月日
H43: Date of admission | J43: Date of graduation

Sheet 願書2枚目_Application.p2 
A1: 12.日本語能力 / Japanese language ability
A2: 試験名 Name of the test | E2: 受験級 level | F2: 受験年月日 date of test | I2: 合否 Pass or fail | K2: 点数 score | M2: Passed
M3: Failed
M4: Waiting for results
A7: 13.過去の在留資格認定証明書交付申請歴 Past history of applying for a certificate of eligibility | F7: 無 No | G7: 有 Yes 無 No | H7: 左記で「有」を択した場合 Fill in the followings when the answer is "Yes" | L7: 回 （times）
A10: 14. 職歴(就職年月日順に記載すること）/資格取得 Occupation career ( from the earlier in turn ) / Qualification Obtained
A12: 勤務先 Name of company | E12: 所在地 Address | I12: 在職期間 Period of employment
A26: 15.入学予定時期 period for entrance | D26: 2027 | E26: 年 Year | F26: 4月入学 | H26: 4月入学Apr. Enrollment/2 year course
H27: 10月入学Oct. Enrollment/1.5 year course
A28: 16.経費支弁者についてSupporter
A29: 氏名 Full Name | H29: 本人との関係 Relationship
A31: 現 住 所 Present Address | H31: 電話番号 phone number
A33: 勤務先名 Name of workplace | H33: 勤務先電話番号 Employer/Companyphone number
A36: 勤務先住所 Address of workplace
A38: 年収 Annual income | G38: 現地通貨 | H38: 職業 Occupation

Sheet 願書3枚目_Application.p3
A1: 17. 犯罪を理由とする処分を受けたことの有無(日本国外におけるものを含む) Criminal record (in Japan or overseas)
F2: 有 Yes 無 No | G2: 左記で「有」を選択した場合 Fill in the followings when the answer is "Yes" | J2: 理由 reason
A3: 18.過去の出入国歴 Past entry into / departure from Japan | F3: 有 Yes無 No | G3: 左記で「有」を選択した場合 Fill in the followings when the answer is "Yes" | J3: 回数 How many times | M3: 回 times
A6: 19.直近の出入国歴 Latest entry to Japan | G6: 年 | H6: 月 | I6: 日 | J6: パスポートの顔写真のページと出入国スタンプページのコピーを提出して下さい。 Please Submit your passport copy;photo page and stamp pages.
G7: Year | H7: Month | I7: Day
A8: 入国 /Entry:
A9: 出国/Departure:
A10: 20. 在日親族（父・母・配偶者・子・兄弟姉妹など）及び同居者 、2名以上いる場合は別紙にご記入ください。 Family in Japan (Father, Mother, Spouse, Son, Daughter, Brother, Sister or others) or co-residents.For more than 2 family members, please fill it in additional attached paper. (在留カード両面のコピーを提出して下さい。/ Please submit the copy of Residence Card, both sides.)
A14: 続柄 Relationship | B14: 氏 名 Name | G14: 生年月日 Date of birth Y/M/D | I14: 国籍 Nationality | J14: 勤務先/通学先 Name of School/Company | L14: 在留カード番号 Residence Card number
A19: 21.就学理由（ここに書ききれない場合は別紙の一面だけに書いてください。） Reasons for applying the Japanese program ( If you need more space, please write in only one side of another sheet. )
A22: 別紙
A26: 22.日本語学校修了後の進路希望Specific plans after graduation from our Japanese language school
A27: 大学院 / Graduate school 大学 / University 専門学校 /College of technology 日本国内での就職 / Working in Japan 帰国 / Return to home country
A31: （1） | B31: 進学希望先学校名 Name of school to enter | E31: :
A33: （2） | B33: 希望科目 Major subject | E33: :
A35: （3） | B35: その他 Others | E35: :
G38: =願書1枚目_Application.p1!E11 -> 0
A39: 以上のことは総て真実であり、私（氏名） | J39: が直筆したものです。
H40: Name
A41: I hereby declare the above statement is true and correct.
G42: 作成年月日： | I42: 年 | K42: 月 | M42: 日
A43: 関東日本語アカデミー Kanto Japanese Academy | G43: Date | I43: year | K43: month | M43: day
G44: 本人署名：
J45: Signature of applicant

Sheet 経費支弁書P4
A1: 関東日本語アカデミーKantoJapaneseAcademy | D1: 経 費 支 弁 書 CERTIFICATE OF GUARANTOR
A2: 日本国法務大臣 殿（To the Minister of Justice, Japan）
A3: 申請者（Applicant）
A4: 氏 名 Full Name | B4: 英 字 English | C4: =願書1枚目_Application.p1!E11 -> 0 | H4: 国籍 Nationality | J4: =願書1枚目_Application.p1!C8 -> 0
A5: 生年月日 Date of birth | C5: =願書1枚目_Application.p1!G8 -> 0 | D5: 年 Year | E5: =願書1枚目_Application.p1!I8 -> 0 | F5: 月 Month | G5: =願書1枚目_Application.p1!K8 -> 0 | H5: 日 Day | I5: 性 別 Sex | J5: =願書1枚目_Application.p1!B12 -> 0 | K5: □ 男 Male □ 女 Female
A7: 私はこの度、上記申請者が日本国に入国した際及び在留中の経費支弁者になりましたので、
A8: 下記のとおり経費支弁の引き受け経緯を説明するとともに、経費支弁について誓約します。
A9: As the guarantor of applicant during applicant's stay in Japan, I pledge to explain the details of
A10: my financial undertaking, and to abide by these details.
A11: 経費支弁者（Guarantor）
A12: 氏 名 Full Name | C12: ='願書2枚目_Application.p2 '!C29 -> 0 | H12: 申請者との関係 Relationship with the applicant | J12: ='願書2枚目_Application.p2 '!J29 -> 0
A14: 現 住 所 Present Address | C14: ='願書2枚目_Application.p2 '!C31 -> 0 | H14: 電話番号 Phone number | J14: ='願書2枚目_Application.p2 '!J31 -> 0
A15: 勤務先名称 Name of Company | C15: ='願書2枚目_Application.p2 '!C33 -> 0 | H15: 勤務先電話番号 Company Phone number | J15: ='願書2枚目_Application.p2 '!J33 -> 0
A17: 1.経費支弁の引き受け経緯（申請者の経費の支弁を引き受けた経緯及び申請者との関係について具体的に記載してください。）
A18: Guarantor’s Undertaking (Please state in detail your relationship with the applicant and explain
A19: why you undertake to become his/her guarantor.)
B21: 別紙
A24: 2.経費支弁内容 | C24: 私 | D24: =C12 -> 0 | L24: は、
A25: Payment Details | C25: I | L25: ,
A27: 上記申請者の日本国滞在について、下記のとおり経費支弁することを誓約します。
A28: hereby pledge to fulfill the financial obligations of applicant, in accordance with the figures stated below,
A29: during his/her stay in Japan
A30: また、上記申請者が在留期間更新許可申請を行う際には、送金証明書又は本人名義の預金通帳（送金事実、経費支弁事実
A31: が記載されたもの）の写し等で、生活費等の支弁事実を明らかにする書類を提出します。
A32: In addition, when applicant should extend his/her stay in Japan, I pledge to submit documents in my name
A33: (e.g. a certificate of remittance, or copies of my bank account statement) to prove my contributions towards
A34: his/her living expenses etc.
A36: (1) | B36: 学 費 School expenses | E36: 年 間 a year | G36: 660000 | J36: 円 JPY
A38: (2) | B38: 生 活 費 Living expenses | E38: 月 額 a month | J38: 円 JPY
A40: (3) | B40: 支弁方法 Method of payment | D40: ☑ | E40: 銀行送金 Bank transfer | G40: □ | H40: その他 Others
A42: 経費支弁書 について間違いが無いことを宣言します。
A43: I hereby declare that certificate of guarantor is true and correct.
E44: 作成年月日 Date | H44: 年 Year | J44: 月 Month | L44: 日 Day
E46: 経費支弁者署名 Signature | G46: （手書きサイン）

Sheet 申請人家族一覧表P5
A1: 関東日本語アカデミー
A2: KantoJapaneseAcademy
A3: 申請人の家族一覧表
A5: Family Members of Applicant
A7: 申請者氏名： | H7: =願書1枚目_Application.p1!E11 -> 0
A8: （Applicant Name）
A11: 続柄 | F11: 国籍 | J11: 氏 名 | R11: 性別 | T11: 生年月日 | AA11: 年齢 | AC11: 職 業 | AG11: 現住所
A12: relationship | F12: Nationality | J12: Name | R12: Sex | T12: Date of Birth | AA12: Age | AC12: Occupation | AG12: Address
J13: ='願書2枚目_Application.p2 '!C29 -> 0 | V13: 年 | X13: 月 | Z13: 日 | AA13: =IF(OR(T14="",W14="",Y14=""),"",IF(DATE(T14,W14,Y14)>TODAY(),"",DATEDIF(DATE(T14,W14,Y14),TODAY(),"Y"))) | AC13: ='願書2枚目_Application.p2 '!J38 -> 0 | AG13: ='願書2枚目_Application.p2 '!C31 -> 0
V15: 年 | X15: 月 | Z15: 日 | AA15: =IF(OR(T16="",W16="",Y16=""),"",IF(DATE(T16,W16,Y16)>TODAY(),"",DATEDIF(DATE(T16,W16,Y16),TODAY(),"Y")))
V17: 年 | X17: 月 | Z17: 日 | AA17: =IF(OR(T18="",W18="",Y18=""),"",IF(DATE(T18,W18,Y18)>TODAY(),"",DATEDIF(DATE(T18,W18,Y18),TODAY(),"Y")))
V19: 年 | X19: 月 | Z19: 日 | AA19: =IF(OR(T20="",W20="",Y20=""),"",IF(DATE(T20,W20,Y20)>TODAY(),"",DATEDIF(DATE(T20,W20,Y20),TODAY(),"Y")))
V21: 年 | X21: 月 | Z21: 日 | AA21: =IF(OR(T22="",W22="",Y22=""),"",IF(DATE(T22,W22,Y22)>TODAY(),"",DATEDIF(DATE(T22,W22,Y22),TODAY(),"Y")))
V23: 年 | X23: 月 | Z23: 日 | AA23: =IF(OR(T24="",W24="",Y24=""),"",IF(DATE(T24,W24,Y24)>TODAY(),"",DATEDIF(DATE(T24,W24,Y24),TODAY(),"Y")))
V25: 年 | X25: 月 | Z25: 日 | AA25: =IF(OR(T26="",W26="",Y26=""),"",IF(DATE(T26,W26,Y26)>TODAY(),"",DATEDIF(DATE(T26,W26,Y26),TODAY(),"Y")))
